BEGIN:VCALENDAR
PRODID:-//eluceo/ical//2.0/EN
VERSION:2.0
CALSCALE:GREGORIAN
BEGIN:VEVENT
UID:318505819f18bcd344e75125082ec4aa
DTSTAMP:20260425T121418Z
SUMMARY:Abendanlass mit Vorstandsitzung und Referat
DESCRIPTION:Website: http://www.leuen.ch\nSprekers: Peter Spirig - ex CEO v
 on V-Zug - Herausforderungen KMU
URL:https://uetliberg.rotary2000.ch/nl/agenda/show/206032
DTSTART;TZID=Europe/Zurich:20260319T190000
DTEND;TZID=Europe/Zurich:20260319T220000
LOCATION:Landgasthof Leuen\, Birmensdorferstrasse 56\, 8142 Uitikon Waldegg
 \, Schweiz
CATEGORIES:Rotary
END:VEVENT
BEGIN:VTIMEZONE
TZID:Europe/Zurich
BEGIN:STANDARD
DTSTART:20260319T190000
TZNAME:CET
TZOFFSETTO:+0100
TZOFFSETFROM:+0100
END:STANDARD
END:VTIMEZONE
END:VCALENDAR
